BEGIN:VCALENDAR
VERSION:2.0
PRODID:-//wp-events-plugin.com//7.2.3.1//EN
BEGIN:VEVENT
UID:6@hundesportamwiehen.de
DTSTART;VALUE=DATE:20231013
DTEND;VALUE=DATE:20231016
DTSTAMP:20231009T093748Z
URL:https://hundesportamwiehen.de/termine/was-teil-2/
SUMMARY:WAS Teil 2
DESCRIPTION:Datum: 13.10. - 15.10.2023\n\n\n\n\n\n\n\n\n\n\n\nDatenübergab
 e:\n12.10.2023\n\n\n\n\n\n\nAnzahl Richter:\n1\n\n\nRichter:\nGerhardt Rub
 ner\n\n\nStartplätze:\n140\n\n\n\n\n\n\nMeldestelle Name:\nMonika Behrend
 t\n\n\nMeldestellen-eMail:\nagility-hundesportwiehen@webmelden.de\n\n\n\n\
 n\n\nMeldegebühr:\n20.00 €\n\n\n\nMeldestellenöffnung/Ablaufzeiten:\n\
 n\n\nam Vortag:\n16.00 Uhr\n\n\nam Turniertag:\n09.00 Uhr\n\n\nerste Begeh
 ung:\n09:45\n\n\nerster Start:\n10:00\n\n\n\nAlle Starter können als Helf
 er eingesetzt werden
ATTACH;FMTTYPE=image/jpeg:https://hundesportamwiehen.de/wp-content/uploads
 /2023/01/cropped-halle_innen_.jpg
CATEGORIES:Turniere
LOCATION:Hundesport Akademie Westfalen\, Husener Str. 14a\, Lübbecke OT Ne
 ttelstedt\, NRW\, 32312\, Deutschland
X-APPLE-STRUCTURED-LOCATION;VALUE=URI;X-ADDRESS=Husener Str. 14a\, Lübbeck
 e OT Nettelstedt\, NRW\, 32312\, Deutschland;X-APPLE-RADIUS=100;X-TITLE=Hu
 ndesport Akademie Westfalen:geo:0,0
END:VEVENT
END:VCALENDAR