BEGIN:VCALENDAR
VERSION:2.0
PRODID:-//wp-events-plugin.com//7.2.3.1//EN
BEGIN:VEVENT
UID:40@hundesportamwiehen.de
DTSTART;VALUE=DATE:20241018
DTEND;VALUE=DATE:20241021
DTSTAMP:20241014T110618Z
URL:https://hundesportamwiehen.de/termine/w-a-s-2-2/
SUMMARY:W.A.S. 2
DESCRIPTION:Ablaufplan für W.A.S. 2.\n\n\nDie Wohnwagen und PKW Stellfläc
 hen auf der Wiese stehen wieder zur Verfügung 😁 Nur angemeldete Wohnwa
 gen und Wohnmobile können an der Halle parken. Eine Anreise ist ab Freita
 g 13.00 Uhr möglich. 🚶‍♂️Bitte haltet euch beim Spazieren mit eu
 ren Hunden an die angegebenen Gassiwege. Die rot markierten Strecken dürf
 en nicht zum Laufen mit den Hunden genutzt werden. Im gesamten Sportgebiet
  herrscht Leinenzwang!!! Um die Halle herum befinden sich Futterwiesen\, b
 itte achtet darauf die Hinterlassenschaften euer Hunde einzusammeln. Es is
 t zwingend darauf zu achten den Sportbetrieb der anderen ansässigen Verei
 ne nicht zu stören. Bitte entsorgt die Hinterlassenschaften eurer Hunde i
 n den dafür vorgesehenen gelben Mülltonnen. Die gelben Mülltonnen stehe
 n ausschließlich für die Entsorgung von Hundekot bereit. Das Entsorgen d
 er Chemietoiletten in unserer Haustoiletten ist verboten.\n\n\n\n\n&nbsp\;
ATTACH;FMTTYPE=image/jpeg:https://hundesportamwiehen.de/wp-content/uploads
 /2024/06/was-winterserie.jpg
CATEGORIES:Turniere
LOCATION:Hundesport Akademie Westfalen\, Husener Str. 14a\, Lübbecke OT Ne
 ttelstedt\, NRW\, 32312\, Deutschland
X-APPLE-STRUCTURED-LOCATION;VALUE=URI;X-ADDRESS=Husener Str. 14a\, Lübbeck
 e OT Nettelstedt\, NRW\, 32312\, Deutschland;X-APPLE-RADIUS=100;X-TITLE=Hu
 ndesport Akademie Westfalen:geo:0,0
END:VEVENT
END:VCALENDAR